BEGIN:VCALENDAR
VERSION:2.0
PRODID:-//CiviCRM//NONSGML CiviEvent iCal//EN
X-WR-TIMEZONE:UTC
METHOD:PUBLISH
BEGIN:VTIMEZONE
TZID:UTC
BEGIN:STANDARD
TZOFFSETFROM:+0000
TZOFFSETTO:+0000
TZNAME:UTC
DTSTART:20260922T100000
END:STANDARD
END:VTIMEZONE
BEGIN:VEVENT
UID:CiviCRM_EventID_6772_36ab9d4b1f1b58d23ee63c9f38533274@www.communities1st.org.uk
SUMMARY:Demonstrating Your Impact
X-ALT-DESC;FMTTYPE=text/html:<!DOCTYPE HTML PUBLIC
  "-//W3C//DTD HTML 3.2//EN"><html><body><p>By the 
 end of this session\, we hope that you will be abl
 e to:</p><ul><li>Describe the links betweenobjecti
 ves and outputs\, specific aims and outcomes\, and
  strategic aims and impact</li><li>Turn objectives
  into outputs</li><li>Turn specific aims into outc
 omes</li><li>Specify at least three ways to collec
 t data</li><li>Understand how to develop monitorin
 g and evaluation framework<br> </li></ul></body></
 html>
DESCRIPTION:By the end of this session\, we hope that you will
  be able to:\n \n Describe the links betweenobject
 ives and outputs\, specific aims and outcomes\, an
 d strategic aims and impactTurn objectives into ou
 tputsTurn specific aims into outcomesSpecify at le
 ast three ways to collect dataUnderstand how to de
 velop monitoring and evaluation framework\n  
CATEGORIES:VCFSE Training
CALSCALE:GREGORIAN
DTSTAMP;TZID=UTC:20260922T100000
DTSTART;TZID=UTC:20260922T100000
DTEND;TZID=UTC:20260922T143000
URL:https://www.communities1st.org.uk/civicrm/event/info?reset=1&id=6772
END:VEVENT
END:VCALENDAR
