BEGIN:VCALENDAR
VERSION:2.0
PRODID:-//CiviCRM//NONSGML CiviEvent iCal//EN
X-WR-TIMEZONE:UTC
METHOD:PUBLISH
BEGIN:VTIMEZONE
TZID:UTC
BEGIN:STANDARD
TZOFFSETFROM:+0000
TZOFFSETTO:+0000
TZNAME:UTC
DTSTART:20260422T120000
END:STANDARD
END:VTIMEZONE
BEGIN:VEVENT
UID:CiviCRM_EventID_6962_36ab9d4b1f1b58d23ee63c9f38533274@www.communities1st.org.uk
SUMMARY:Creative Community Cafés - Aberford Community Cent
 re
X-ALT-DESC;FMTTYPE=text/html:<!DOCTYPE HTML PUBLIC
  "-//W3C//DTD HTML 3.2//EN"><html><body><h2>Come a
 long to our Creative Community Cafes!</h2><p>Do yo
 u enjoy knitting\, tapestry\, crocheting\, needlew
 ork\, painting or another crafty hobby?</p><p>If y
 es\, come along to our weekly Creative Community C
 afes! </p><p>These will be weekly coffee and craft
 ing sessions\; a great opportunity to meet new fri
 ends with similar interests\, to chat about your h
 obbies\, and enjoy free refreshments.</p><p>Don't 
 forget that from 1pm to 3pm it will be possible to
  play Bowling at the Aberford Bowling Green .</p><
 p>To book a session contact us at bookings@communi
 ties1st.org.uk</p></body></html>
DESCRIPTION:Come along to our Creative Community Cafes!\n Do y
 ou enjoy knitting\, tapestry\, crocheting\, needle
 work\, painting or another crafty hobby?\n \n If y
 es\, come along to our weekly Creative Community C
 afes! \n \n These will be weekly coffee and crafti
 ng sessions\; a great opportunity to meet new frie
 nds with similar interests\, to chat about your ho
 bbies\, and enjoy free refreshments.\n \n Don't fo
 rget that from 1pm to 3pm it will be possible to p
 lay Bowling at the Aberford Bowling Green .\n \n T
 o book a session contact us at bookings@communitie
 s1st.org.uk\n \n 
CATEGORIES:Creative Cafes
CALSCALE:GREGORIAN
DTSTAMP;TZID=UTC:20260422T120000
DTSTART;TZID=UTC:20260422T120000
DTEND;TZID=UTC:20260422T160000
LOCATION:Aberford Community centre\n Aberford Rd\,\n Boreha
 mwood\n  WD6 1PN\n United Kingdom\n 
URL:https://www.communities1st.org.uk/civicrm/event/info?reset=1&id=6962
END:VEVENT
END:VCALENDAR
