BEGIN:VCALENDAR
VERSION:2.0
PRODID:-//CiviCRM//NONSGML CiviEvent iCal//EN
X-WR-TIMEZONE:UTC
METHOD:PUBLISH
BEGIN:VTIMEZONE
TZID:UTC
BEGIN:STANDARD
TZOFFSETFROM:+0000
TZOFFSETTO:+0000
TZNAME:UTC
DTSTART:20260421T100000
END:STANDARD
END:VTIMEZONE
BEGIN:VEVENT
UID:CiviCRM_EventID_7028_36ab9d4b1f1b58d23ee63c9f38533274@www.communities1st.org.uk
SUMMARY:Creative Community Café - Farriers Way Community C
 entre
X-ALT-DESC;FMTTYPE=text/html:<!DOCTYPE HTML PUBLIC
  "-//W3C//DTD HTML 3.2//EN"><html><body><p>Do you 
 enjoy knitting\, tapestry\, crocheting\, needlewor
 k\, painting or another crafty hobby?</p><p>If yes
 \, come along to our new weekly Creative Community
  Cafes! </p><p>These will be weekly coffee and cra
 fting sessions\; a great opportunity to meet new f
 riends with similar interests\, to chat about your
  hobbies\, and enjoy free refreshments.</p></body>
 </html>
DESCRIPTION:Do you enjoy knitting\, tapestry\, crocheting\, ne
 edlework\, painting or another crafty hobby?\n \n 
 If yes\, come along to our new weekly Creative Com
 munity Cafes! \n \n These will be weekly coffee an
 d crafting sessions\; a great opportunity to meet 
 new friends with similar interests\, to chat about
  your hobbies\, and enjoy free refreshments.\n \n 
CATEGORIES:Creative Cafes
CALSCALE:GREGORIAN
DTSTAMP;TZID=UTC:20260421T100000
DTSTART;TZID=UTC:20260421T100000
DTEND;TZID=UTC:20260421T150000
LOCATION:Farriers Way Community Centre\n 27 Farriers Way\n 
 Borehamwood\, WD6 2TB\n United Kingdom\n 
URL:https://www.communities1st.org.uk/civicrm/event/info?reset=1&id=7028
END:VEVENT
END:VCALENDAR
