BEGIN:VCALENDAR
VERSION:2.0
PRODID:-//CiviCRM//NONSGML CiviEvent iCal//EN
X-WR-TIMEZONE:UTC
METHOD:PUBLISH
BEGIN:VTIMEZONE
TZID:UTC
BEGIN:STANDARD
TZOFFSETFROM:+0000
TZOFFSETTO:+0000
TZNAME:UTC
DTSTART:20260424T120000
END:STANDARD
END:VTIMEZONE
BEGIN:VEVENT
UID:CiviCRM_EventID_7168_36ab9d4b1f1b58d23ee63c9f38533274@www.communities1st.org.uk
SUMMARY:Computers & a Cuppa - community hub
X-ALT-DESC;FMTTYPE=text/html:<!DOCTYPE HTML PUBLIC
  "-//W3C//DTD HTML 3.2//EN"><html><body><p>Compute
 rs and a Cuppa is a service for those who need hel
 p using technology.</p><p>Our volunteers can help 
 with many things\, such as setting up email addres
 ses\, online shopping orders\, and even online ban
 king. This is a drop-in service open to members of
  the public. There's no need to book in advance\, 
 and no charge for the service.</p><p>At Computers 
 and a Cuppa\, you'll be greeted with a relaxed and
  welcoming atmosphere.</p><p>We're looking forward
  to seeing you!</p></body></html>
DESCRIPTION:Computers and a Cuppa is a service for those who n
 eed help using technology.\n \n Our volunteers can
  help with many things\, such as setting up email 
 addresses\, online shopping orders\, and even onli
 ne banking. This is a drop-in service open to memb
 ers of the public. There's no need to book in adva
 nce\, and no charge for the service.\n \n At Compu
 ters and a Cuppa\, you'll be greeted with a relaxe
 d and welcoming atmosphere.\n \n We're looking for
 ward to seeing you!\n \n 
CATEGORIES:Employment & Skills
CALSCALE:GREGORIAN
DTSTAMP;TZID=UTC:20260424T120000
DTSTART;TZID=UTC:20260424T120000
DTEND;TZID=UTC:20260424T154500
LOCATION:Community Hub\n 5 Leeming Road\n Borehamwood\, WD6
  4EB\n United Kingdom\n 
URL:https://www.communities1st.org.uk/civicrm/event/info?reset=1&id=7168
END:VEVENT
END:VCALENDAR
