BEGIN:VCALENDAR
VERSION:2.0
PRODID:-//CiviCRM//NONSGML CiviEvent iCal//EN
X-WR-TIMEZONE:UTC
METHOD:PUBLISH
BEGIN:VTIMEZONE
TZID:UTC
BEGIN:STANDARD
TZOFFSETFROM:+0000
TZOFFSETTO:+0000
TZNAME:UTC
DTSTART:20260421T103000
END:STANDARD
END:VTIMEZONE
BEGIN:VEVENT
UID:CiviCRM_EventID_7199_36ab9d4b1f1b58d23ee63c9f38533274@www.communities1st.org.uk
SUMMARY:Writing for Wellbeing - Creative Community Café
X-ALT-DESC;FMTTYPE=text/html:<!DOCTYPE HTML PUBLIC
  "-//W3C//DTD HTML 3.2//EN"><html><body><p>Writing
  for Wellbeing!<br><br>Writer Penny Black from the
  Royal Literary Fund will guide you through listen
 ing to some short\, themed poems that have been sp
 ecially selected. She will then lead a gentle disc
 ussion of how the words feel and sound to you and 
 offer some writing prompts to help you express you
 rself. There is absolutely no pressure\, prep or h
 omework. The sessions will allow space for you to 
 discover your creative side – and they will also b
 e fun!<br><br>Past participants say:<br><br>· When
  you’re struggling with mental health\, it gives y
 ou confidence\, a focus on both something outside 
 your mind and a way to process what’s in your mind
 .<br><br>· I love the interaction within the group
  and being able to see other people’s perspectives
 . Finding confidence to write and express how I’m 
 really feeling and being able to share with others
 .<br><br>You need no experience of writing or even
  reading - just come along!</p><p>Don't worry if y
 ou cannot attend all four session\, you will still
  be able to enjoy the experience! </p></body></htm
 l>
DESCRIPTION:Writing for Wellbeing!\n \n Writer Penny Black fro
 m the Royal Literary Fund will guide you through l
 istening to some short\, themed poems that have be
 en specially selected. She will then lead a gentle
  discussion of how the words feel and sound to you
  and offer some writing prompts to help you expres
 s yourself. There is absolutely no pressure\, prep
  or homework. The sessions will allow space for yo
 u to discover your creative side – and they will a
 lso be fun!\n \n Past participants say:\n \n · Whe
 n you’re struggling with mental health\, it gives 
 you confidence\, a focus on both something outside
  your mind and a way to process what’s in your min
 d.\n \n · I love the interaction within the group 
 and being able to see other people’s perspectives.
  Finding confidence to write and express how I’m r
 eally feeling and being able to share with others.
 \n \n You need no experience of writing or even re
 ading - just come along!\n \n Don't worry if you c
 annot attend all four session\, you will still be 
 able to enjoy the experience! \n \n 
CATEGORIES:Creative Cafes
CALSCALE:GREGORIAN
DTSTAMP;TZID=UTC:20260421T103000
DTSTART;TZID=UTC:20260421T103000
DTEND;TZID=UTC:20260421T120000
LOCATION:Farriers Way Community Centre\n 27 Farriers Way\n 
 Borehamwood\, WD6 2TB\n United Kingdom\n 
URL:https://www.communities1st.org.uk/civicrm/event/info?reset=1&id=7199
END:VEVENT
END:VCALENDAR
